BEGIN:VCALENDAR
VERSION:2.0
PRODID:icalendar-ruby
CALSCALE:GREGORIAN
METHOD:PUBLISH
BEGIN:VEVENT
DTSTAMP:20260423T223014Z
UID:6-361132@columbiachurchofchrist.org
DTSTART:20261025T143000Z
DTEND:20261025T160000Z
CLASS:PUBLIC
CREATED:20260423T171820
DESCRIPTION:
LAST-MODIFIED:20260423T171820
LOCATION:
SUMMARY:Sunday Worship
URL;VALUE=URI:https://www.columbiachurchofchrist.org/events/sunday-worship-
 -6/2026-10-25
END:VEVENT
END:VCALENDAR
