BEGIN:VCALENDAR
VERSION:2.0
PRODID:icalendar-ruby
CALSCALE:GREGORIAN
METHOD:PUBLISH
BEGIN:VEVENT
DTSTAMP:20260423T211114Z
UID:6-360878@columbiachurchofchrist.org
DTSTART:20261018T143000Z
DTEND:20261018T160000Z
CLASS:PUBLIC
CREATED:20260423T142339
DESCRIPTION:
LAST-MODIFIED:20260423T142339
LOCATION:
SUMMARY:Sunday Worship
URL;VALUE=URI:https://www.columbiachurchofchrist.org/events/sunday-worship-
 -6/2026-10-18
END:VEVENT
END:VCALENDAR
