BEGIN:VCALENDAR
VERSION:2.0
PRODID:icalendar-ruby
CALSCALE:GREGORIAN
METHOD:PUBLISH
BEGIN:VEVENT
DTSTAMP:20260423T171527Z
UID:6-360622@columbiachurchofchrist.org
DTSTART:20260927T143000Z
DTEND:20260927T160000Z
CLASS:PUBLIC
CREATED:20260423T112650
DESCRIPTION:
LAST-MODIFIED:20260423T112650
LOCATION:
SUMMARY:Sunday Worship
URL;VALUE=URI:https://www.columbiachurchofchrist.org/events/sunday-worship-
 -6/2026-09-27
END:VEVENT
END:VCALENDAR
