BEGIN:VCALENDAR
VERSION:2.0
PRODID:icalendar-ruby
CALSCALE:GREGORIAN
METHOD:PUBLISH
BEGIN:VEVENT
DTSTAMP:20260423T130136Z
UID:6-360366@columbiachurchofchrist.org
DTSTART:20260906T143000Z
DTEND:20260906T160000Z
CLASS:PUBLIC
CREATED:20260423T083423
DESCRIPTION:
LAST-MODIFIED:20260423T083423
LOCATION:
SUMMARY:Sunday Worship
URL;VALUE=URI:https://www.columbiachurchofchrist.org/events/sunday-worship-
 -6/2026-09-06
END:VEVENT
END:VCALENDAR
