BEGIN:VCALENDAR
VERSION:2.0
PRODID:icalendar-ruby
CALSCALE:GREGORIAN
METHOD:PUBLISH
BEGIN:VEVENT
DTSTAMP:20260423T114459Z
UID:6-360112@columbiachurchofchrist.org
DTSTART:20260830T143000Z
DTEND:20260830T160000Z
CLASS:PUBLIC
CREATED:20260422T230407
DESCRIPTION:
LAST-MODIFIED:20260422T230407
LOCATION:
SUMMARY:Sunday Worship
URL;VALUE=URI:https://www.columbiachurchofchrist.org/events/sunday-worship-
 -6/2026-08-30
END:VEVENT
END:VCALENDAR
