BEGIN:VCALENDAR
VERSION:2.0
PRODID:icalendar-ruby
CALSCALE:GREGORIAN
METHOD:PUBLISH
BEGIN:VEVENT
DTSTAMP:20260423T092247Z
UID:6-360110@columbiachurchofchrist.org
DTSTART:20260816T143000Z
DTEND:20260816T160000Z
CLASS:PUBLIC
CREATED:20260422T230407
DESCRIPTION:
LAST-MODIFIED:20260422T230407
LOCATION:
SUMMARY:Sunday Worship
URL;VALUE=URI:https://www.columbiachurchofchrist.org/events/sunday-worship-
 -6/2026-08-16
END:VEVENT
END:VCALENDAR
