BEGIN:VCALENDAR
VERSION:2.0
PRODID:icalendar-ruby
CALSCALE:GREGORIAN
METHOD:PUBLISH
BEGIN:VEVENT
DTSTAMP:20260421T085420Z
UID:6-357073@columbiachurchofchrist.org
DTSTART:20260809T143000Z
DTEND:20260809T160000Z
CLASS:PUBLIC
CREATED:20260420T211009
DESCRIPTION:
LAST-MODIFIED:20260420T211009
LOCATION:
SUMMARY:Sunday Worship
URL;VALUE=URI:https://www.columbiachurchofchrist.org/events/sunday-worship-
 -6/2026-08-09
END:VEVENT
END:VCALENDAR
