BEGIN:VCALENDAR
VERSION:2.0
PRODID:icalendar-ruby
CALSCALE:GREGORIAN
METHOD:PUBLISH
BEGIN:VEVENT
DTSTAMP:20260421T074032Z
UID:6-357072@columbiachurchofchrist.org
DTSTART:20260802T143000Z
DTEND:20260802T160000Z
CLASS:PUBLIC
CREATED:20260420T211009
DESCRIPTION:
LAST-MODIFIED:20260420T211009
LOCATION:
SUMMARY:Sunday Worship
URL;VALUE=URI:https://www.columbiachurchofchrist.org/events/sunday-worship-
 -6/2026-08-02
END:VEVENT
END:VCALENDAR
