BEGIN:VCALENDAR
VERSION:2.0
PRODID:icalendar-ruby
CALSCALE:GREGORIAN
METHOD:PUBLISH
BEGIN:VEVENT
DTSTAMP:20260421T063226Z
UID:6-357071@columbiachurchofchrist.org
DTSTART:20260726T143000Z
DTEND:20260726T160000Z
CLASS:PUBLIC
CREATED:20260420T211009
DESCRIPTION:
LAST-MODIFIED:20260420T211009
LOCATION:
SUMMARY:Sunday Worship
URL;VALUE=URI:https://www.columbiachurchofchrist.org/events/sunday-worship-
 -6/2026-07-26
END:VEVENT
END:VCALENDAR
