BEGIN:VCALENDAR
VERSION:2.0
PRODID:icalendar-ruby
CALSCALE:GREGORIAN
METHOD:PUBLISH
BEGIN:VEVENT
DTSTAMP:20260422T030640Z
UID:15-358687@columbiachurchofchrist.org
DTSTART:20261101T140000Z
DTEND:20261101T141500Z
CLASS:PUBLIC
CREATED:20260421T212540
DESCRIPTION:Need prayer?  Being called to pray for others?  Join us on Su
 ndays for Prayer Group!
LAST-MODIFIED:20260421T212540
LOCATION:
SUMMARY:Prayer Group
URL;VALUE=URI:https://www.columbiachurchofchrist.org/events/prayer-group/20
 26-11-01
END:VEVENT
END:VCALENDAR
