BEGIN:VCALENDAR
VERSION:2.0
PRODID:icalendar-ruby
CALSCALE:GREGORIAN
METHOD:PUBLISH
BEGIN:VEVENT
DTSTAMP:20260422T002957Z
UID:15-358432@columbiachurchofchrist.org
DTSTART:20261018T130000Z
DTEND:20261018T131500Z
CLASS:PUBLIC
CREATED:20260421T184701
DESCRIPTION:Need prayer?  Being called to pray for others?  Join us on Su
 ndays for Prayer Group!
LAST-MODIFIED:20260421T184701
LOCATION:
SUMMARY:Prayer Group
URL;VALUE=URI:https://www.columbiachurchofchrist.org/events/prayer-group/20
 26-10-18
END:VEVENT
END:VCALENDAR
