BEGIN:VCALENDAR
VERSION:2.0
PRODID:icalendar-ruby
CALSCALE:GREGORIAN
METHOD:PUBLISH
BEGIN:VEVENT
DTSTAMP:20260421T192238Z
UID:15-357925@columbiachurchofchrist.org
DTSTART:20261011T130000Z
DTEND:20261011T131500Z
CLASS:PUBLIC
CREATED:20260421T133253
DESCRIPTION:Need prayer?  Being called to pray for others?  Join us on Su
 ndays for Prayer Group!
LAST-MODIFIED:20260421T133253
LOCATION:
SUMMARY:Prayer Group
URL;VALUE=URI:https://www.columbiachurchofchrist.org/events/prayer-group/20
 26-10-11
END:VEVENT
END:VCALENDAR
