BEGIN:VCALENDAR
VERSION:2.0
PRODID:icalendar-ruby
CALSCALE:GREGORIAN
METHOD:PUBLISH
BEGIN:VEVENT
DTSTAMP:20260421T180006Z
UID:15-357924@columbiachurchofchrist.org
DTSTART:20261004T130000Z
DTEND:20261004T131500Z
CLASS:PUBLIC
CREATED:20260421T133253
DESCRIPTION:Need prayer?  Being called to pray for others?  Join us on Su
 ndays for Prayer Group!
LAST-MODIFIED:20260421T133253
LOCATION:
SUMMARY:Prayer Group
URL;VALUE=URI:https://www.columbiachurchofchrist.org/events/prayer-group/20
 26-10-04
END:VEVENT
END:VCALENDAR
