BEGIN:VCALENDAR
VERSION:2.0
PRODID:icalendar-ruby
CALSCALE:GREGORIAN
METHOD:PUBLISH
BEGIN:VEVENT
DTSTAMP:20260421T140359Z
UID:15-357415@columbiachurchofchrist.org
DTSTART:20260913T130000Z
DTEND:20260913T131500Z
CLASS:PUBLIC
CREATED:20260421T081714
DESCRIPTION:Need prayer?  Being called to pray for others?  Join us on Su
 ndays for Prayer Group!
LAST-MODIFIED:20260421T081714
LOCATION:
SUMMARY:Prayer Group
URL;VALUE=URI:https://www.columbiachurchofchrist.org/events/prayer-group/20
 26-09-13
END:VEVENT
END:VCALENDAR
