BEGIN:VCALENDAR
VERSION:2.0
PRODID:icalendar-ruby
CALSCALE:GREGORIAN
METHOD:PUBLISH
BEGIN:VEVENT
DTSTAMP:20260421T090925Z
UID:15-357158@columbiachurchofchrist.org
DTSTART:20260816T130000Z
DTEND:20260816T131500Z
CLASS:PUBLIC
CREATED:20260420T211009
DESCRIPTION:Need prayer?  Being called to pray for others?  Join us on Su
 ndays for Prayer Group!
LAST-MODIFIED:20260420T211009
LOCATION:
SUMMARY:Prayer Group
URL;VALUE=URI:https://www.columbiachurchofchrist.org/events/prayer-group/20
 26-08-16
END:VEVENT
END:VCALENDAR
