BEGIN:VCALENDAR
VERSION:2.0
PRODID:icalendar-ruby
CALSCALE:GREGORIAN
METHOD:PUBLISH
BEGIN:VEVENT
DTSTAMP:20260421T052439Z
UID:15-357155@columbiachurchofchrist.org
DTSTART:20260726T130000Z
DTEND:20260726T131500Z
CLASS:PUBLIC
CREATED:20260420T211009
DESCRIPTION:Need prayer?  Being called to pray for others?  Join us on Su
 ndays for Prayer Group!
LAST-MODIFIED:20260420T211009
LOCATION:
SUMMARY:Prayer Group
URL;VALUE=URI:https://www.columbiachurchofchrist.org/events/prayer-group/20
 26-07-26
END:VEVENT
END:VCALENDAR
